View In:
ArcGIS JavaScript
ArcGIS Online Map Viewer
ArcGIS Earth
ArcGIS Pro
Service Description: This basemap provides tax parcel information to the general public and other consumers within an organization. The content presented in this map emulates hardcopy map products used throughout local government. The PLSS and the subdivided lands provide a navigation framework and additional detail is provided at larger scales. At a map scale of 1:4800 and less, parcels, lots and historical lot lines are shown.
Map Name: PlatMap
Legend
All Layers and Tables
Dynamic Legend
Dynamic All Layers
Layers:
Description: This basemap provides tax parcel information to the general public and other consumers within an organization. The content presented in this map emulates hardcopy map products used throughout local government. The PLSS and the subdivided lands provide a navigation framework and additional detail is provided at larger scales. At a map scale of 1:4800 and less, parcels, lots and historical lot lines are shown.
Service Item Id: 5460ca1409d74e7a857b8039ed90c7d5
Copyright Text: Bloomfield Township MI, Esri., Inc.
Spatial Reference:
102100
(3857)
LatestVCSWkid(0)
Single Fused Map Cache: true
Tile Info:
- Height: 256.0
- Width: 256.0
- DPI: 96.0
-
Levels of Detail: 24
-
Level ID: 1
[ Start Tile, End Tile ]
- Resolution: 78271.5169639999
- Scale: 2.95828763795777E8
-
Level ID: 2
[ Start Tile, End Tile ]
- Resolution: 39135.7584820001
- Scale: 1.47914381897889E8
-
Level ID: 3
[ Start Tile, End Tile ]
- Resolution: 19567.8792409999
- Scale: 7.3957190948944E7
-
Level ID: 4
[ Start Tile, End Tile ]
- Resolution: 9783.93962049996
- Scale: 3.6978595474472E7
-
Level ID: 5
[ Start Tile, End Tile ]
- Resolution: 4891.96981024998
- Scale: 1.8489297737236E7
- Format: Mixed
- Compression Quality: 90.0
- Origin: X: -2.0037508342787E7
Y: 2.0037508342787E7
- Spatial Reference: 102100
(3857)
LatestVCSWkid(0)
Storage Info:
- Storage Format: esriMapCacheStorageModeCompactV2
- Packet Size: 128
Initial Extent:
XMin: -9461672.175202517
YMin: 5234555.540415455
XMax: -9413020.006699068
YMax: 5257053.505740695
Spatial Reference: 102100
(0)
LatestVCSWkid(0)
Full Extent:
XMin: -9500901.192573413
YMin: 5213993.521549878
XMax: -9387515.365801759
YMax: 5287526.668616171
Spatial Reference: 102100
(0)
LatestVCSWkid(0)
Units: esriMeters
Supported Image Format Types: PNG32,PNG24,PNG,JPG,DIB,TIFF,EMF,PS,PDF,GIF,SVG,SVGZ,BMP
Document Info:
Title: Layers
Author:
Comments: This basemap provides tax parcel information to the general public and other consumers within an organization. The content presented in this map emulates hardcopy map products used throughout local government. The PLSS and the subdivided lands provide a navigation framework and additional detail is provided at larger scales. At a map scale of 1:4800 and less, parcels, lots and historical lot lines are shown.
Subject: Plat map of Eaton County, Michigan, USA
Category:
Keywords: Parcels,Tax Map,Public Access,Basemap
AntialiasingMode: Best
TextAntialiasingMode: Force
Supports Dynamic Layers: true
MaxRecordCount: 2000
MaxSelectionCount: 2000
MaxImageHeight: 4096
MaxImageWidth: 4096
Supported Query Formats: JSON, geoJSON, PBF
Supports Query Data Elements: true
Min Scale: 1155581.108577
Max Scale: 282.124294
Min LOD: 9
Max LOD: 21
Supports Datum Transformation: true
Child Resources:
Info
Dynamic Layer
Supported Operations:
Export Map
Identify
QueryLegends
QueryDomains
Find
Return Updates