View In:
ArcGIS JavaScript
ArcGIS Online Map Viewer
ArcGIS Earth
ArcGIS Pro
Service Description: <div style='text-align:Left;font-size:12pt'><div><div><p><span>This basemap contains Eaton County Drain Office maintained drain infrastructure. The drain centerline layer contain in the basemap is symbolzied to show the direction of flow.</span></p></div></div></div>
Map Name: Hydro Basemap
Legend
All Layers and Tables
Dynamic Legend
Dynamic All Layers
Layers:
Description: This basemap contains Eaton County Drain Office maintained drain infrastructure. The drain centerline layer contain in the basemap is symbolzied to show the direction of flow.
Service Item Id: e2632361ffc249e3a0d049a4a5d210cc
Copyright Text: © Eaton County 2025
Spatial Reference:
102100
(3857)
LatestVCSWkid(0)
Single Fused Map Cache: true
Tile Info:
- Height: 256.0
- Width: 256.0
- DPI: 96.0
-
Levels of Detail: 24
-
Level ID: 1
[ Start Tile, End Tile ]
- Resolution: 78271.5169639999
- Scale: 2.95828763795777E8
-
Level ID: 2
[ Start Tile, End Tile ]
- Resolution: 39135.7584820001
- Scale: 1.47914381897889E8
-
Level ID: 3
[ Start Tile, End Tile ]
- Resolution: 19567.8792409999
- Scale: 7.3957190948944E7
-
Level ID: 4
[ Start Tile, End Tile ]
- Resolution: 9783.93962049996
- Scale: 3.6978595474472E7
-
Level ID: 5
[ Start Tile, End Tile ]
- Resolution: 4891.96981024998
- Scale: 1.8489297737236E7
- Format: Mixed
- Compression Quality: 95.0
- Origin: X: -2.0037508342787E7
Y: 2.0037508342787E7
- Spatial Reference: 102100
(3857)
LatestVCSWkid(0)
Storage Info:
- Storage Format: esriMapCacheStorageModeCompactV2
- Packet Size: 128
Initial Extent:
XMin: -9494526.734922549
YMin: 5226568.607766311
XMax: -9397222.397915652
YMax: 5270902.084171654
Spatial Reference: 102100
(0)
LatestVCSWkid(0)
Full Extent:
XMin: -9470737.898802292
YMin: 5224077.2926629875
XMax: -9417678.65957288
YMax: 5277442.897503061
Spatial Reference: 102100
(0)
LatestVCSWkid(0)
Units: esriMeters
Supported Image Format Types: PNG32,PNG24,PNG,JPG,DIB,TIFF,EMF,PS,PDF,GIF,SVG,SVGZ,BMP
Document Info:
Title: Hydro Basemap
Author:
Comments: This basemap contains Eaton County Drain Office maintained drain infrastructure. The drain centerline layer contain in the basemap is symbolzied to show the direction of flow.
Subject: This basemap contains Eaton County Drain Office maintained drain infrastructure.
Category:
Keywords: drain,water,waterbody,pond,lake,tile,storm water
AntialiasingMode: Best
TextAntialiasingMode: Force
Supports Dynamic Layers: true
MaxRecordCount: 2000
MaxSelectionCount: 2000
MaxImageHeight: 4096
MaxImageWidth: 4096
Supported Query Formats: JSON, geoJSON, PBF
Supports Query Data Elements: true
Min Scale: 577790.554289
Max Scale: 282.124294
Min LOD: 10
Max LOD: 21
Supports Datum Transformation: true
Child Resources:
Info
Dynamic Layer
Supported Operations:
Export Map
Identify
QueryLegends
QueryDomains
Find
Return Updates