View In:
ArcGIS JavaScript
ArcGIS Online Map Viewer
ArcGIS Earth
ArcGIS Pro
Service Description: <DIV STYLE="text-align:Left;font-size:12pt"><DIV><P><SPAN>This basemap contains aerial imagery flown in March of 2023 as well as parcel boundaries and road centerlines.</SPAN></P></DIV></DIV>
Map Name: 2023ImageryParcels
Legend
All Layers and Tables
Dynamic Legend
Dynamic All Layers
Layers:
Description: This basemap contains aerial imagery flown in March of 2023 as well as parcel boundaries and road centerlines.
Service Item Id: 1bb9cbae2a6b4e069f3ae9c85959cb20
Copyright Text: © ECGIS 2024
Spatial Reference:
102100
(3857)
LatestVCSWkid(0)
Single Fused Map Cache: true
Tile Info:
- Height: 256.0
- Width: 256.0
- DPI: 96.0
-
Levels of Detail: 24
-
Level ID: 1
[ Start Tile, End Tile ]
- Resolution: 78271.5169639999
- Scale: 2.95828763795777E8
-
Level ID: 2
[ Start Tile, End Tile ]
- Resolution: 39135.7584820001
- Scale: 1.47914381897889E8
-
Level ID: 3
[ Start Tile, End Tile ]
- Resolution: 19567.8792409999
- Scale: 7.3957190948944E7
-
Level ID: 4
[ Start Tile, End Tile ]
- Resolution: 9783.93962049996
- Scale: 3.6978595474472E7
-
Level ID: 5
[ Start Tile, End Tile ]
- Resolution: 4891.96981024998
- Scale: 1.8489297737236E7
- Format: Mixed
- Compression Quality: 90.0
- Origin: X: -2.0037508342787E7
Y: 2.0037508342787E7
- Spatial Reference: 102100
(3857)
LatestVCSWkid(0)
Storage Info:
- Storage Format: esriMapCacheStorageModeCompactV2
- Packet Size: 128
Initial Extent:
XMin: -9449727.984476518
YMin: 5235646.625635608
XMax: -9437564.94235032
YMax: 5241271.116967074
Spatial Reference: 102100
(3857)
LatestVCSWkid(0)
Full Extent:
XMin: -9470573.124201022
YMin: 5224318.53483215
XMax: -9417680.014155207
YMax: 5277148.647357097
Spatial Reference: 102100
(3857)
LatestVCSWkid(0)
Units: esriMeters
Supported Image Format Types: PNG32,PNG24,PNG,JPG,DIB,TIFF,EMF,PS,PDF,GIF,SVG,SVGZ,BMP
Document Info:
Title: 2023 Imagery Parcels
Author:
Comments: This basemap contains aerial imagery flown in March of 2023 as well as parcel boundaries and road centerlines.
Subject: Eaton County 2023 imagery basemap with roads and parcel boundaries.
Category:
Keywords: 2023,imagery,basemap
AntialiasingMode: Best
TextAntialiasingMode: Force
Supports Dynamic Layers: true
MaxRecordCount: 2000
MaxSelectionCount: 2000
MaxImageHeight: 4096
MaxImageWidth: 4096
Supported Query Formats: JSON, geoJSON, PBF
Supports Query Data Elements: true
Min Scale: 577790.554289
Max Scale: 282.124294
Min LOD: 10
Max LOD: 21
Supports Datum Transformation: true
Child Resources:
Info
Dynamic Layer
Supported Operations:
Export Map
Identify
QueryLegends
QueryDomains
Find
Return Updates